BEGIN:VCALENDAR
VERSION:2.0
PRODID:-//TYPO3/NONSGML News system (news)//EN
CALSCALE:GREGORIAN
METHOD:PUBLISH
BEGIN:VEVENT
UID:news-116392@sanktpaul.at

DTSTAMP:20260420T174152Z



DTSTART;TZID=Europe/Vienna:20260430T180000
DTEND;TZID=Europe/Vienna:20260430T000000

SUMMARY:Maibaum Aufstellen
DESCRIPTION:

LOCATION:Lobissserplatz St. Paul


END:VEVENT
END:VCALENDAR
