BEGIN:VCALENDAR
VERSION:2.0
PRODID:-//TYPO3/NONSGML News system (news)//EN
CALSCALE:GREGORIAN
METHOD:PUBLISH
BEGIN:VEVENT
UID:news-117003@sanktpaul.at

DTSTAMP:20260424T133328Z



DTSTART;TZID=Europe/Vienna:20260501T070000
DTEND;TZID=Europe/Vienna:20260501T000000

SUMMARY:Weckruf der Alt-Lavanttaler Trachtenkapelle St. Paul
DESCRIPTION:

LOCATION:Route St. Paul Nord


END:VEVENT
END:VCALENDAR
